BEGIN:VCALENDAR
VERSION:2.0
PRODID:-//Property Owners Association of NSW Inc - ECPv5.1.6//NONSGML v1.0//EN
CALSCALE:GREGORIAN
METHOD:PUBLISH
X-WR-CALNAME:Property Owners Association of NSW Inc
X-ORIGINAL-URL:https://poansw.com.au
X-WR-CALDESC:Events for Property Owners Association of NSW Inc
BEGIN:VTIMEZONE
TZID:Australia/Sydney
BEGIN:STANDARD
TZOFFSETFROM:+1100
TZOFFSETTO:+1000
TZNAME:AEST
DTSTART:20210403T160000
END:STANDARD
BEGIN:DAYLIGHT
TZOFFSETFROM:+1000
TZOFFSETTO:+1100
TZNAME:AEDT
DTSTART:20211002T160000
END:DAYLIGHT
END:VTIMEZONE
BEGIN:VEVENT
DTSTART;TZID=Australia/Sydney:20210303T183000
DTEND;TZID=Australia/Sydney:20210303T193000
DTSTAMP:20210225T221742
CREATED:20210211T065101Z
LAST-MODIFIED:20210222T074435Z
UID:35706-1614796200-1614799800@poansw.com.au
SUMMARY:Land Tax Matters Updates Live Webinar
DESCRIPTION:The Property Owners Association of NSW invites you to this one-time-only Zoom Live Webinar		\n				\n				\n				\n			Zoom webinar\nWednesday 3rd March\n6:30 – 7:30pm\nJoin our panel of experts who will discuss how you can navigate your way through the NSW Land Tax System		\n				\n				\n				\n			FREE for POANSW members\n$55 for non-members		\n				\n				\n				\n					\n			\n						\n		\n				\n				\n				\n				\n			What is land tax?\nWho should pay it?\nCan I be exempt from paying it?\nWhat if my bill is too high?\nHow can I object to it?\nWhat if I have to go to court to dispute it?\nCan I reduce this major property cost?		\n				\n				\n				\n					These questions are often asked by serious property investors who already have\, or are in the process of\, building a significant property portfolio. \n				\n				\n				\n				\n			Guest speakers:		\n				\n				\n				\n					\n																					\n				\n				\n				\n				\n			James Ruben – Vice President\, POANSW		\n				\n				\n				\n			Topics covered:\nHandling land tax objections\, the process\nNSW 2021 stamp duty and land tax reform update		\n				\n				\n				\n					James has over 15 years experience in the property industry and is currently a directer at m3property\, a national property valuation and advisory firm. He has completed a Bachelor of Property Economics and also holds a Graduate Certificate in Dispute Resolution. He is a certified practising valuer and licensed to provide valuations all over Australia. \n				\n				\n				\n				\n					\n																					\n				\n				\n				\n				\n			Pier Parisi – Special Counsel\, Madison Marcus Lawyers		\n				\n				\n				\n			Topics covered:\nThe key factual aspect of land valuations\nRecovery of overpaid tax for past years\nDisputes in the Land and Environment Court\nYour right to appeal of adverse decisions in court		\n				\n				\n				\n					Pier has been working as a tax specialist lawyer since late 1999\, in top-tier law and accounting firms and then on his own after spending two years in general legal practice. He has acted for taxpayers of all kinds\, but with a main focus on participants in the financial services and property industries. Such clients have ranged from the major investment and retail banks to financial co-operatives and litigation funders. He has appeared as counsel for taxpayers at all levels of Commonwealth Courts and Tribunals. \n				\n				\n				\n				\n					\n			\n						\n		\n				\n				\n				\n				\n			Registration Required.		\n				\n				\n						\n							\n					\n			\n							\n								\n					\n		\n				\n			\n							\n						\n				\n			Non-Members		\n				\n				\n				\n			(TICKETS $55)		\n				\n				\n				\n					\n			\n						\n						Register Now \n		\n					\n		\n				\n				\n						\n					\n		\n				\n			\n							\n						\n				\n			POANSW Members		\n				\n				\n				\n			(LOGIN REQUIRED)		\n				\n				\n				\n					\n			\n						\n						Click here to login\n		\n					\n		\n				\n				\n				\n				\n					\n			\n						\n						Register Now \n		\n					\n		\n				\n				\n						\n					\n		\n				\n			\n							\n								\n					\n		\n								\n					\n		\n				\n				\n			Upon registering a reminder email with the Zoom login details will be sent to you closer to the event date.		\n				\n				\n				\n					\n			\n						\n		\n				\n				\n				\n				\n					This webinar is strictly limited to 100 attendees only.POANSW is a non for profit that does not sell any products or services but provides support and education to its members and guests. Thank you to our affiliate sponsors.
URL:https://poansw.com.au/event/land-tax-matters-updates-live-webinar-2/
CATEGORIES:Events
ATTACH;FMTTYPE=image/jpeg:https://poansw.com.au/wp-content/uploads/2021/02/landtax.event_.jpg
END:VEVENT
END:VCALENDAR